BEGIN:VCALENDAR
VERSION:2.0
PRODID:-//Oceanside Cultural Arts Foundation - ECPv6.15.17.1//NONSGML v1.0//EN
CALSCALE:GREGORIAN
METHOD:PUBLISH
X-ORIGINAL-URL:https://ocaf.info
X-WR-CALDESC:Events for Oceanside Cultural Arts Foundation
REFRESH-INTERVAL;VALUE=DURATION:PT1H
X-Robots-Tag:noindex
X-PUBLISHED-TTL:PT1H
BEGIN:VTIMEZONE
TZID:America/Los_Angeles
BEGIN:DAYLIGHT
TZOFFSETFROM:-0800
TZOFFSETTO:-0700
TZNAME:PDT
DTSTART:20240310T100000
END:DAYLIGHT
BEGIN:STANDARD
TZOFFSETFROM:-0700
TZOFFSETTO:-0800
TZNAME:PST
DTSTART:20241103T090000
END:STANDARD
BEGIN:DAYLIGHT
TZOFFSETFROM:-0800
TZOFFSETTO:-0700
TZNAME:PDT
DTSTART:20250309T100000
END:DAYLIGHT
BEGIN:STANDARD
TZOFFSETFROM:-0700
TZOFFSETTO:-0800
TZNAME:PST
DTSTART:20251102T090000
END:STANDARD
BEGIN:DAYLIGHT
TZOFFSETFROM:-0800
TZOFFSETTO:-0700
TZNAME:PDT
DTSTART:20260308T100000
END:DAYLIGHT
BEGIN:STANDARD
TZOFFSETFROM:-0700
TZOFFSETTO:-0800
TZNAME:PST
DTSTART:20261101T090000
END:STANDARD
END:VTIMEZONE
BEGIN:VEVENT
DTSTART;TZID=America/Los_Angeles:20250522T173000
DTEND;TZID=America/Los_Angeles:20250522T193000
DTSTAMP:20260424T001134
CREATED:20251013T181613Z
LAST-MODIFIED:20251013T183120Z
UID:1421-1747935000-1747942200@ocaf.info
SUMMARY:Nathan Schwartz
DESCRIPTION:Art Walls O’Side Presents: Nathan Schwartz — “Cosmic Thoughts”\nDate & Time: Thursday\, May 22\, 2025 | 5:30 PM – 7:30 PMLocation: The Privateer Coal Fired Pizza\, 1706 S Coast Hwy\, Oceanside\, CA \nDescription:Join us for the opening night of the newest Art Walls O’Side exhibit featuring the bold and thought-provoking works of local artist Nathan Schwartz. Known for his vivid\, cosmic-inspired style and imaginative perspective\, Nathan’s art invites viewers to explore the intersection of color\, energy\, and emotion. \nEnjoy an evening surrounded by creativity\, community\, and the best pizza in town! Come meet the artist\, mingle with fellow art lovers\, and experience Oceanside’s vibrant local art scene. \nFollow Nathan on Instagram to preview his work: @nathanschwartzart \n✨ Free event — all are welcome! \n~~~~~ \nABOUT NATHAN:\nHi everyone! My name is Nathan\, I’m the sole artist responsible for this channel. I wanted to reintroduce myself. ❤️ \nI’m from San Diego originally\, and I still call this place home. My wife Rosie and I live with my daughter Amy and our two dogs Maverick & Lexi in Oceanside. \nI first took photography in high school (composition and darkroom development) which was an “aha” moment for me\, creatively. I never stopped since. \nDuring the Covid pandemic lockdown I pushed myself to do an art piece per day. The one lesson I learned from this was to just create\, and to not think about the end result. To work on the piece until it “felt finished”. \nOut of that process came three distinct mediums: my photography (color and monochrome)\, digital art\, and abstract photographic blends. \nOver the past few years I’ve had galleries at Culture Brewing\, Helia Beer\, pop ups at Vigilante Coffee\, spotlights in the Coast News. Last month I was nominated for an Artist award at the Oceanside International Film Festival (OIFF). \nMy photography is done with a combination of lenses\, mostly a 24-105 F4 on my Canon 5D MKii. My artwork is primarily done in Procreate using my Apple Pencil 2. I do color grading and final detailing in Adobe Lightroom. \nPrints of my work are available at www.Coastal-Chroma.com
URL:https://ocaf.info/event/nathan-schwartz/
LOCATION:The Privateer Coal Fire Pizza\, 1706 S Coast Hwy\, Oceanside\, CA\, 92054\, United States
CATEGORIES:Artwalls
ATTACH;FMTTYPE=image/jpeg:https://ocaf.info/wp-content/uploads/2025/10/Nathan-Schwartz1.jpg
ORGANIZER;CN="Oceanside Cultural Arts Foundation":MAILTO:ocaf.arts@gmail.com
END:VEVENT
END:VCALENDAR