BEGIN:VCALENDAR
VERSION:2.0
PRODID:-//Oceanside Cultural Arts Foundation - ECPv6.15.17.1//NONSGML v1.0//EN
CALSCALE:GREGORIAN
METHOD:PUBLISH
X-ORIGINAL-URL:https://ocaf.info
X-WR-CALDESC:Events for Oceanside Cultural Arts Foundation
REFRESH-INTERVAL;VALUE=DURATION:PT1H
X-Robots-Tag:noindex
X-PUBLISHED-TTL:PT1H
BEGIN:VTIMEZONE
TZID:America/Los_Angeles
BEGIN:DAYLIGHT
TZOFFSETFROM:-0800
TZOFFSETTO:-0700
TZNAME:PDT
DTSTART:20250309T100000
END:DAYLIGHT
BEGIN:STANDARD
TZOFFSETFROM:-0700
TZOFFSETTO:-0800
TZNAME:PST
DTSTART:20251102T090000
END:STANDARD
BEGIN:DAYLIGHT
TZOFFSETFROM:-0800
TZOFFSETTO:-0700
TZNAME:PDT
DTSTART:20260308T100000
END:DAYLIGHT
BEGIN:STANDARD
TZOFFSETFROM:-0700
TZOFFSETTO:-0800
TZNAME:PST
DTSTART:20261101T090000
END:STANDARD
BEGIN:DAYLIGHT
TZOFFSETFROM:-0800
TZOFFSETTO:-0700
TZNAME:PDT
DTSTART:20270314T100000
END:DAYLIGHT
BEGIN:STANDARD
TZOFFSETFROM:-0700
TZOFFSETTO:-0800
TZNAME:PST
DTSTART:20271107T090000
END:STANDARD
END:VTIMEZONE
BEGIN:VEVENT
DTSTART;TZID=America/Los_Angeles:20260308T133000
DTEND;TZID=America/Los_Angeles:20260308T160000
DTSTAMP:20260421T113024
CREATED:20260216T220812Z
LAST-MODIFIED:20260217T123744Z
UID:1686-1772976600-1772985600@ocaf.info
SUMMARY:Women of Note
DESCRIPTION:Join us for an elegant afternoon at Women of Note VI\, our annual scholarship fundraiser celebrating the power of the arts and the women who champion them. \nThis year’s gala will feature exclusive performances by former OCAF scholarship recipients\, along with special presentations highlighting the impact of arts education in our community. Together\, we will honor three extraordinary Oceanside leaders whose dedication\, vision\, and generosity have profoundly enriched the cultural fabric of our city. \nWe proudly recognize: \nEileen Turk — former head of Oceanside Parks & Recreation\, longtime force behind Concerts in the Park\, Oceanside Ambassador\, and beloved emcee for countless local arts events. \nCJ DiMento — Oceanside’s Head Librarian\, member of the Oceanside Arts Commission\, and a driving force behind the successful campaign that established Oceanside’s Cultural Arts District. \nJoanne Tawfilis — UNESCO founder and director\, creator of the internationally renowned Art Miles Mural Project\, and founder of the UNESCO Center for Peace. \nProceeds from Women of Note VI support OCAF scholarships for higher arts education\, helping the next generation of artists pursue their creative dreams. \nCelebrate legacy. Support the future. Join us for an unforgettable afternoon honoring the women who help our arts community thrive. \nClick here to purchase your tickets today!!
URL:https://ocaf.info/event/women-of-note/
LOCATION:Oceanside Civic Center\, 330 N Coast Highway\, Oceanside\, CA\, 92054\, United States
CATEGORIES:OMFest
ATTACH;FMTTYPE=image/jpeg:https://ocaf.info/wp-content/uploads/2026/02/WON-Flyer-2026.jpg
END:VEVENT
END:VCALENDAR