BEGIN:VCALENDAR
VERSION:2.0
PRODID:-//Oceanside Cultural Arts Foundation - ECPv6.15.17.1//NONSGML v1.0//EN
CALSCALE:GREGORIAN
METHOD:PUBLISH
X-WR-CALNAME:Oceanside Cultural Arts Foundation
X-ORIGINAL-URL:https://ocaf.info
X-WR-CALDESC:Events for Oceanside Cultural Arts Foundation
REFRESH-INTERVAL;VALUE=DURATION:PT1H
X-Robots-Tag:noindex
X-PUBLISHED-TTL:PT1H
BEGIN:VTIMEZONE
TZID:America/Los_Angeles
BEGIN:DAYLIGHT
TZOFFSETFROM:-0800
TZOFFSETTO:-0700
TZNAME:PDT
DTSTART:20240310T100000
END:DAYLIGHT
BEGIN:STANDARD
TZOFFSETFROM:-0700
TZOFFSETTO:-0800
TZNAME:PST
DTSTART:20241103T090000
END:STANDARD
BEGIN:DAYLIGHT
TZOFFSETFROM:-0800
TZOFFSETTO:-0700
TZNAME:PDT
DTSTART:20250309T100000
END:DAYLIGHT
BEGIN:STANDARD
TZOFFSETFROM:-0700
TZOFFSETTO:-0800
TZNAME:PST
DTSTART:20251102T090000
END:STANDARD
BEGIN:DAYLIGHT
TZOFFSETFROM:-0800
TZOFFSETTO:-0700
TZNAME:PDT
DTSTART:20260308T100000
END:DAYLIGHT
BEGIN:STANDARD
TZOFFSETFROM:-0700
TZOFFSETTO:-0800
TZNAME:PST
DTSTART:20261101T090000
END:STANDARD
BEGIN:DAYLIGHT
TZOFFSETFROM:-0800
TZOFFSETTO:-0700
TZNAME:PDT
DTSTART:20270314T100000
END:DAYLIGHT
BEGIN:STANDARD
TZOFFSETFROM:-0700
TZOFFSETTO:-0800
TZNAME:PST
DTSTART:20271107T090000
END:STANDARD
END:VTIMEZONE
BEGIN:VEVENT
DTSTART;TZID=America/Los_Angeles:20251112T173000
DTEND;TZID=America/Los_Angeles:20251112T193000
DTSTAMP:20260424T002734
CREATED:20251019T150415Z
LAST-MODIFIED:20251019T150415Z
UID:1495-1762968600-1762975800@ocaf.info
SUMMARY:Lori Sandstrom
DESCRIPTION:Art Walls O’Side Presents: Lori Sandstrom — “Coastal Inspirations”\nDate & Time: Wednesday\, November 12\, 2025 | 5:30 PM – 7:30 PMLocation: O’side Bakery\, 3815 Mission Ave\, Suite 101\, Oceanside\, CA\nExhibit Dates: November 12\, 2025 – January 5\, 2026 \nDescription: \nJoin us for the opening reception of Art Walls O’Side featuring the vibrant\, coastal-inspired artwork of Lori Sandstrom. Known for her expressive use of color and texture\, Lori’s work captures the beauty\, rhythm\, and soul of Southern California life — from ocean waves to blooming landscapes. \nCome meet the artist\, enjoy light refreshments\, and experience a visual journey that celebrates nature\, creativity\, and community. \nThis free event is open to all — bring your friends and fellow art lovers for an evening of inspiration at O’side Bakery. \nDiscover more of Lori’s work on Instagram: @studiosandstromlori. \n✨ Free event — all are welcome! \n~~~~~ \nABOUT LORI:\nChange in the Making. \n “After years of painting in a particular style using dots to portray wildlife and nature\, I have decided it’s time for my art to evolve. At this point\, the transformation is still in progress and I’m having a blast exploring all of the different ways to express myself. And I’m excited to share my evolution with you!” \nLori Sandstrom received her Bachelor of Fine Arts degree from the University of Hawaii\, majoring in graphic design and minoring in painting and photography. Soon after graduating\, she moved to San Diego and began her career as a graphic designer\, illustrator\, and photographer. Her graphic design has won both local and national awards in advertising and publishing. Worldwide travel has played a big part in Lori’s art. Her passion for intense cultural immersion and exploration of the human experience influences her painting and her point of view. Years of traveling\, working\, and volunteering on four continents have instilled in her a deep appreciation for shapes\, colors\, and textures around the world. \nLori’s artwork is on display and for sale at the San Diego Zoo and San Diego Zoo Safari Park\, and at various local art shows. She paints in her Oceanside\, CA\, home studio\, where she also enjoys working on graphic design projects\, commissioned paintings\, and teaching art. \nContact Lori:\n619.623.5434\nstudiosandstrom@mac.com\ninstagram@studiosandstromlori
URL:https://ocaf.info/event/lori-sandstrom/
LOCATION:O’Side Bakery\, 3815 Mission Ave\, Unit 101\, Oceanside\, 92058\, United States
CATEGORIES:Artwalls
ATTACH;FMTTYPE=image/jpeg:https://ocaf.info/wp-content/uploads/2025/10/Lori-Sandstrom_Event.jpg
ORGANIZER;CN="Oceanside Cultural Arts Foundation":MAILTO:ocaf.arts@gmail.com
END:VEVENT
BEGIN:VEVENT
DTSTART;TZID=America/Los_Angeles:20251112T173000
DTEND;TZID=America/Los_Angeles:20251112T193000
DTSTAMP:20260424T002734
CREATED:20251019T152132Z
LAST-MODIFIED:20251020T201039Z
UID:1502-1762968600-1762975800@ocaf.info
SUMMARY:Doriana Sinnett
DESCRIPTION:Art Walls O’Side Presents: Doriana Sinnett — “Expressions in Color”\nDate & Time: Wednesday\, November 12\, 2025 | 5:30 PM – 7:30 PMLocation: O’side Bakery\, 3815 Mission Ave\, Suite 101\, Oceanside\, CA\nExhibit Dates: November 12\, 2025 – January 5\, 2026 \nDescription: \nCelebrate the opening of the newest Art Walls O’Side exhibit featuring the bold and expressive artwork of Doriana Sinnett. Doriana’s work radiates emotion and energy through her striking use of color and form\, inviting viewers to connect deeply with each piece. \nJoin us for an inspiring evening of art\, conversation\, and community at O’side Bakery. Enjoy refreshments\, meet the artist\, and experience Doriana’s captivating creations up close. \nThis event is free and open to all — come see how Doriana’s passion for art lights up Oceanside! \nExplore more of her work on Instagram: @dorianasinnettart. \n✨ Free event — all are welcome! \n~~~~~ \nABOUT DORIANA:\nDigital art has been the anchor for my journey in the world of art. My creative spirit has always been unwavering\, and from a young age\, I developed a deep passion for both art and music. Music has been a constant source of inspiration and a catalyst for my imaginative ideas\, often finding me doodling while immersed in melodies that moved me. \nPhotography also captured my heart\, especially when it came to preserving precious moments with my family. As my children grew\, so did my interest in photography. I pursued courses to enhance my skills\, embarking on a life-changing journey to India. It was there that my casual interest in photography blossomed into an all-consuming obsession\, allowing me to see the world through a lens of insight and wonder. \nAfter five years dedicated to photography\, a fateful encounter led me to discover Sebastian Michael’s Photoshop Artistry course. This blend of artistic expression and technology captivated me and ignited a boundless journey of artistic exploration. As technology advanced\, the bond between my soul and the act of creation intensified\, bringing me immense joy and positivity. When I breathe life into my digital art\, I strive to channel the pure essence of goodness that permeates the fabric of the universe. \nMy spiritual journey profoundly influences my art\, with each creation reflecting the story of my life. My digital art weaves tales of enchantment\, revealing secrets to those who seek to truly understand. \nContact Doriana:\nsinnettdoriana@gmail.com \ninstagram@dorianasinnettart\natelierimagery.com
URL:https://ocaf.info/event/doriana-sinnett/
LOCATION:O’Side Bakery\, 3815 Mission Ave\, Unit 101\, Oceanside\, 92058\, United States
CATEGORIES:Artwalls
ATTACH;FMTTYPE=image/jpeg:https://ocaf.info/wp-content/uploads/2025/10/Doriana-Sinnett_Event.jpg
ORGANIZER;CN="Oceanside Cultural Arts Foundation":MAILTO:ocaf.arts@gmail.com
END:VEVENT
BEGIN:VEVENT
DTSTART;TZID=America/Los_Angeles:20251112T173000
DTEND;TZID=America/Los_Angeles:20251112T193000
DTSTAMP:20260424T002734
CREATED:20251020T203350Z
LAST-MODIFIED:20251020T203350Z
UID:1516-1762968600-1762975800@ocaf.info
SUMMARY:Familiar Faces\, Fresh Creations
DESCRIPTION:Join us for the opening reception of Familiar Faces\, Fresh Creations — a new Art Walls O’side exhibit featuring the vibrant works of returning artists Lori Sandstrom and Doriana Sinnett. \nCelebrate the creative evolution of these talented artists on Wednesday\, November 12\, 2025\, from 5:30 to 7:30 PM at The O’side Bakery. Enjoy an evening filled with art\, community\, and inspiration as you explore their latest pieces and connect with fellow art lovers. \nLori and Doriana’s art will remain on display through January 5\, 2026\, so be sure to stop by and experience their fresh new work throughout the season. \nFollow the artists online: @studiosandstromlori @dorianasinnettart \n~~~~~\nArt Walls O’Side Presents: Doriana Sinnett \nABOUT DORIANA:\nDigital art has been the anchor for my journey in the world of art. My creative spirit has always been unwavering\, and from a young age\, I developed a deep passion for both art and music. Music has been a constant source of inspiration and a catalyst for my imaginative ideas\, often finding me doodling while immersed in melodies that moved me. \nPhotography also captured my heart\, especially when it came to preserving precious moments with my family. As my children grew\, so did my interest in photography. I pursued courses to enhance my skills\, embarking on a life-changing journey to India. It was there that my casual interest in photography blossomed into an all-consuming obsession\, allowing me to see the world through a lens of insight and wonder. \nAfter five years dedicated to photography\, a fateful encounter led me to discover Sebastian Michael’s Photoshop Artistry course. This blend of artistic expression and technology captivated me and ignited a boundless journey of artistic exploration. As technology advanced\, the bond between my soul and the act of creation intensified\, bringing me immense joy and positivity. When I breathe life into my digital art\, I strive to channel the pure essence of goodness that permeates the fabric of the universe. \nMy spiritual journey profoundly influences my art\, with each creation reflecting the story of my life. My digital art weaves tales of enchantment\, revealing secrets to those who seek to truly understand. \nContact Doriana:\nsinnettdoriana@gmail.com \ninstagram@dorianasinnettart\natelierimagery.com \n   \n  \n  \n  \n  \n  \n  \n  \n  \n~~~~~ \nArt Walls O’Side Presents: Lori Sandstrom\nABOUT LORI:\nChange in the Making. \n “After years of painting in a particular style using dots to portray wildlife and nature\, I have decided it’s time for my art to evolve. At this point\, the transformation is still in progress and I’m having a blast exploring all of the different ways to express myself. And I’m excited to share my evolution with you!” \nLori Sandstrom received her Bachelor of Fine Arts degree from the University of Hawaii\, majoring in graphic design and minoring in painting and photography. Soon after graduating\, she moved to San Diego and began her career as a graphic designer\, illustrator\, and photographer. Her graphic design has won both local and national awards in advertising and publishing. Worldwide travel has played a big part in Lori’s art. Her passion for intense cultural immersion and exploration of the human experience influences her painting and her point of view. Years of traveling\, working\, and volunteering on four continents have instilled in her a deep appreciation for shapes\, colors\, and textures around the world. \nLori’s artwork is on display and for sale at the San Diego Zoo and San Diego Zoo Safari Park\, and at various local art shows. She paints in her Oceanside\, CA\, home studio\, where she also enjoys working on graphic design projects\, commissioned paintings\, and teaching art. \nContact Lori:\n619.623.5434\nstudiosandstrom@mac.com\ninstagram@studiosandstromlori \n   \n  \n 
URL:https://ocaf.info/event/familiar-faces-fresh-creations/
LOCATION:O’Side Bakery\, 3815 Mission Ave\, Unit 101\, Oceanside\, 92058\, United States
CATEGORIES:Artwalls
ATTACH;FMTTYPE=image/jpeg:https://ocaf.info/wp-content/uploads/2025/10/Familiar-Faces-Fresh-Creations.jpg
ORGANIZER;CN="Oceanside Cultural Arts Foundation":MAILTO:ocaf.arts@gmail.com
END:VEVENT
BEGIN:VEVENT
DTSTART;TZID=America/Los_Angeles:20260308T133000
DTEND;TZID=America/Los_Angeles:20260308T160000
DTSTAMP:20260424T002734
CREATED:20260216T220812Z
LAST-MODIFIED:20260217T123744Z
UID:1686-1772976600-1772985600@ocaf.info
SUMMARY:Women of Note
DESCRIPTION:Join us for an elegant afternoon at Women of Note VI\, our annual scholarship fundraiser celebrating the power of the arts and the women who champion them. \nThis year’s gala will feature exclusive performances by former OCAF scholarship recipients\, along with special presentations highlighting the impact of arts education in our community. Together\, we will honor three extraordinary Oceanside leaders whose dedication\, vision\, and generosity have profoundly enriched the cultural fabric of our city. \nWe proudly recognize: \nEileen Turk — former head of Oceanside Parks & Recreation\, longtime force behind Concerts in the Park\, Oceanside Ambassador\, and beloved emcee for countless local arts events. \nCJ DiMento — Oceanside’s Head Librarian\, member of the Oceanside Arts Commission\, and a driving force behind the successful campaign that established Oceanside’s Cultural Arts District. \nJoanne Tawfilis — UNESCO founder and director\, creator of the internationally renowned Art Miles Mural Project\, and founder of the UNESCO Center for Peace. \nProceeds from Women of Note VI support OCAF scholarships for higher arts education\, helping the next generation of artists pursue their creative dreams. \nCelebrate legacy. Support the future. Join us for an unforgettable afternoon honoring the women who help our arts community thrive. \nClick here to purchase your tickets today!!
URL:https://ocaf.info/event/women-of-note/
LOCATION:Oceanside Civic Center\, 330 N Coast Highway\, Oceanside\, CA\, 92054\, United States
CATEGORIES:OMFest
ATTACH;FMTTYPE=image/jpeg:https://ocaf.info/wp-content/uploads/2026/02/WON-Flyer-2026.jpg
END:VEVENT
BEGIN:VEVENT
DTSTART;TZID=America/Los_Angeles:20260424T170000
DTEND;TZID=America/Los_Angeles:20260424T190000
DTSTAMP:20260424T002734
CREATED:20260309T160600Z
LAST-MODIFIED:20260321T012840Z
UID:1712-1777050000-1777057200@ocaf.info
SUMMARY:A Painted Piano Party
DESCRIPTION:Join the Oceanside Cultural Arts Foundation (OCAF) for an evening of music\, creativity\, and community! Our “Art of Music” fundraiser is back\, featuring the vibrant sounds of our iconic Painted Pianos played by incredibly talented local artists. \n\n\n\nThis isn’t just a party—it’s a mission. All funds raised go directly toward Arts Scholarships for local high school students pursuing Visual\, Performing\, and Literary Arts. \n  \nClick here for all the details and to buy tickets!
URL:https://ocaf.info/event/a-painted-piano-party/
LOCATION:El Camino Country Club\, 3202 Vista Way\, Oceanside\, CA\, 92056
CATEGORIES:Parties
ORGANIZER;CN="Oceanside Cultural Arts Foundation":MAILTO:ocaf.arts@gmail.com
END:VEVENT
END:VCALENDAR